BEGIN:VCALENDAR
VERSION:2.0
PRODID:-//Unity Allstars - ECPv6.15.20//NONSGML v1.0//EN
CALSCALE:GREGORIAN
METHOD:PUBLISH
X-WR-CALNAME:Unity Allstars
X-ORIGINAL-URL:https://unityallstars.com
X-WR-CALDESC:Events for Unity Allstars
REFRESH-INTERVAL;VALUE=DURATION:PT1H
X-Robots-Tag:noindex
X-PUBLISHED-TTL:PT1H
BEGIN:VTIMEZONE
TZID:Europe/London
BEGIN:DAYLIGHT
TZOFFSETFROM:+0000
TZOFFSETTO:+0100
TZNAME:BST
DTSTART:20240331T010000
END:DAYLIGHT
BEGIN:STANDARD
TZOFFSETFROM:+0100
TZOFFSETTO:+0000
TZNAME:GMT
DTSTART:20241027T010000
END:STANDARD
BEGIN:DAYLIGHT
TZOFFSETFROM:+0000
TZOFFSETTO:+0100
TZNAME:BST
DTSTART:20250330T010000
END:DAYLIGHT
BEGIN:STANDARD
TZOFFSETFROM:+0100
TZOFFSETTO:+0000
TZNAME:GMT
DTSTART:20251026T010000
END:STANDARD
BEGIN:DAYLIGHT
TZOFFSETFROM:+0000
TZOFFSETTO:+0100
TZNAME:BST
DTSTART:20260329T010000
END:DAYLIGHT
BEGIN:STANDARD
TZOFFSETFROM:+0100
TZOFFSETTO:+0000
TZNAME:GMT
DTSTART:20261025T010000
END:STANDARD
END:VTIMEZONE
BEGIN:VEVENT
DTSTART;VALUE=DATE:20250825
DTEND;VALUE=DATE:20250826
DTSTAMP:20260423T205026
CREATED:20250603T132736Z
LAST-MODIFIED:20250603T132736Z
UID:3436-1756080000-1756166399@unityallstars.com
SUMMARY:Summer Break
DESCRIPTION:
URL:https://unityallstars.com/event/summer-break-15/
END:VEVENT
BEGIN:VEVENT
DTSTART;VALUE=DATE:20250824
DTEND;VALUE=DATE:20250825
DTSTAMP:20260423T205026
CREATED:20250603T132718Z
LAST-MODIFIED:20250603T132718Z
UID:3434-1755993600-1756079999@unityallstars.com
SUMMARY:Summer Break
DESCRIPTION:
URL:https://unityallstars.com/event/summer-break-14/
END:VEVENT
BEGIN:VEVENT
DTSTART;VALUE=DATE:20250823
DTEND;VALUE=DATE:20250824
DTSTAMP:20260423T205026
CREATED:20250603T132658Z
LAST-MODIFIED:20250603T132658Z
UID:3432-1755907200-1755993599@unityallstars.com
SUMMARY:Summer Break
DESCRIPTION:
URL:https://unityallstars.com/event/summer-break-13/
END:VEVENT
BEGIN:VEVENT
DTSTART;VALUE=DATE:20250822
DTEND;VALUE=DATE:20250823
DTSTAMP:20260423T205026
CREATED:20250603T132636Z
LAST-MODIFIED:20250603T132636Z
UID:3430-1755820800-1755907199@unityallstars.com
SUMMARY:Summer Break
DESCRIPTION:
URL:https://unityallstars.com/event/summer-break-12/
END:VEVENT
BEGIN:VEVENT
DTSTART;VALUE=DATE:20250821
DTEND;VALUE=DATE:20250822
DTSTAMP:20260423T205026
CREATED:20250602T202214Z
LAST-MODIFIED:20250602T202214Z
UID:3421-1755734400-1755820799@unityallstars.com
SUMMARY:Summer Break
DESCRIPTION:
URL:https://unityallstars.com/event/summer-break-11/
END:VEVENT
BEGIN:VEVENT
DTSTART;VALUE=DATE:20250820
DTEND;VALUE=DATE:20250821
DTSTAMP:20260423T205026
CREATED:20250602T202151Z
LAST-MODIFIED:20250602T202151Z
UID:3419-1755648000-1755734399@unityallstars.com
SUMMARY:Summer Break
DESCRIPTION:
URL:https://unityallstars.com/event/summer-break-10/
END:VEVENT
BEGIN:VEVENT
DTSTART;VALUE=DATE:20250819
DTEND;VALUE=DATE:20250820
DTSTAMP:20260423T205026
CREATED:20250602T202129Z
LAST-MODIFIED:20250602T202129Z
UID:3417-1755561600-1755647999@unityallstars.com
SUMMARY:Summer Break
DESCRIPTION:
URL:https://unityallstars.com/event/summer-break-9/
END:VEVENT
BEGIN:VEVENT
DTSTART;VALUE=DATE:20250818
DTEND;VALUE=DATE:20250819
DTSTAMP:20260423T205026
CREATED:20250602T202107Z
LAST-MODIFIED:20250602T202107Z
UID:3415-1755475200-1755561599@unityallstars.com
SUMMARY:Summer Break
DESCRIPTION:
URL:https://unityallstars.com/event/summer-break-8/
END:VEVENT
BEGIN:VEVENT
DTSTART;VALUE=DATE:20250817
DTEND;VALUE=DATE:20250818
DTSTAMP:20260423T205026
CREATED:20250602T202037Z
LAST-MODIFIED:20250602T202037Z
UID:3413-1755388800-1755475199@unityallstars.com
SUMMARY:Summer Break
DESCRIPTION:
URL:https://unityallstars.com/event/summer-break-7/
END:VEVENT
BEGIN:VEVENT
DTSTART;VALUE=DATE:20250816
DTEND;VALUE=DATE:20250817
DTSTAMP:20260423T205026
CREATED:20250602T202010Z
LAST-MODIFIED:20250602T202010Z
UID:3411-1755302400-1755388799@unityallstars.com
SUMMARY:Summer Break
DESCRIPTION:
URL:https://unityallstars.com/event/summer-break-6/
END:VEVENT
BEGIN:VEVENT
DTSTART;VALUE=DATE:20250815
DTEND;VALUE=DATE:20250816
DTSTAMP:20260423T205026
CREATED:20250602T201946Z
LAST-MODIFIED:20250602T201946Z
UID:3409-1755216000-1755302399@unityallstars.com
SUMMARY:Summer Break
DESCRIPTION:
URL:https://unityallstars.com/event/summer-break-5/
END:VEVENT
BEGIN:VEVENT
DTSTART;VALUE=DATE:20250814
DTEND;VALUE=DATE:20250815
DTSTAMP:20260423T205026
CREATED:20250602T201926Z
LAST-MODIFIED:20250602T201926Z
UID:3407-1755129600-1755215999@unityallstars.com
SUMMARY:Summer Break
DESCRIPTION:
URL:https://unityallstars.com/event/summer-break-4/
END:VEVENT
BEGIN:VEVENT
DTSTART;VALUE=DATE:20250813
DTEND;VALUE=DATE:20250814
DTSTAMP:20260423T205026
CREATED:20250602T201901Z
LAST-MODIFIED:20250602T201901Z
UID:3405-1755043200-1755129599@unityallstars.com
SUMMARY:Summer Break
DESCRIPTION:
URL:https://unityallstars.com/event/summer-break-3/
END:VEVENT
BEGIN:VEVENT
DTSTART;VALUE=DATE:20250812
DTEND;VALUE=DATE:20250813
DTSTAMP:20260423T205026
CREATED:20250602T201755Z
LAST-MODIFIED:20250602T201755Z
UID:3403-1754956800-1755043199@unityallstars.com
SUMMARY:Summer Break
DESCRIPTION:
URL:https://unityallstars.com/event/summer-break-2/
END:VEVENT
BEGIN:VEVENT
DTSTART;VALUE=DATE:20250811
DTEND;VALUE=DATE:20250812
DTSTAMP:20260423T205026
CREATED:20250602T201731Z
LAST-MODIFIED:20250602T201731Z
UID:3401-1754870400-1754956799@unityallstars.com
SUMMARY:Summer Break
DESCRIPTION:
URL:https://unityallstars.com/event/summer-break/
END:VEVENT
BEGIN:VEVENT
DTSTART;VALUE=DATE:20250714
DTEND;VALUE=DATE:20250715
DTSTAMP:20260423T205026
CREATED:20250602T201701Z
LAST-MODIFIED:20250602T201701Z
UID:3399-1752451200-1752537599@unityallstars.com
SUMMARY:Season 20 Starts
DESCRIPTION:
URL:https://unityallstars.com/event/season-20-starts/
END:VEVENT
BEGIN:VEVENT
DTSTART;VALUE=DATE:20250705
DTEND;VALUE=DATE:20250706
DTSTAMP:20260423T205026
CREATED:20250602T201636Z
LAST-MODIFIED:20250602T201636Z
UID:3397-1751673600-1751759999@unityallstars.com
SUMMARY:Season 20 Evaluations
DESCRIPTION:
URL:https://unityallstars.com/event/season-20-evaluations-5/
END:VEVENT
BEGIN:VEVENT
DTSTART;VALUE=DATE:20250703
DTEND;VALUE=DATE:20250704
DTSTAMP:20260423T205026
CREATED:20250602T201605Z
LAST-MODIFIED:20250602T201605Z
UID:3395-1751500800-1751587199@unityallstars.com
SUMMARY:Season 20 Evaluations
DESCRIPTION:
URL:https://unityallstars.com/event/season-20-evaluations-4/
END:VEVENT
BEGIN:VEVENT
DTSTART;VALUE=DATE:20250702
DTEND;VALUE=DATE:20250703
DTSTAMP:20260423T205026
CREATED:20250602T201538Z
LAST-MODIFIED:20250602T201538Z
UID:3393-1751414400-1751500799@unityallstars.com
SUMMARY:Season 20 Evaluations
DESCRIPTION:
URL:https://unityallstars.com/event/season-20-evaluations-3/
END:VEVENT
BEGIN:VEVENT
DTSTART;VALUE=DATE:20250701
DTEND;VALUE=DATE:20250702
DTSTAMP:20260423T205026
CREATED:20250602T201421Z
LAST-MODIFIED:20250602T201421Z
UID:3391-1751328000-1751414399@unityallstars.com
SUMMARY:Season 20 Evaluations
DESCRIPTION:
URL:https://unityallstars.com/event/season-20-evaluations-2/
END:VEVENT
BEGIN:VEVENT
DTSTART;VALUE=DATE:20250630
DTEND;VALUE=DATE:20250701
DTSTAMP:20260423T205026
CREATED:20250602T201350Z
LAST-MODIFIED:20250602T201350Z
UID:3389-1751241600-1751327999@unityallstars.com
SUMMARY:Season 20 Evaluations
DESCRIPTION:
URL:https://unityallstars.com/event/season-20-evaluations/
END:VEVENT
BEGIN:VEVENT
DTSTART;TZID=Europe/London:20250628T110000
DTEND;TZID=Europe/London:20250628T130000
DTSTAMP:20260423T205026
CREATED:20250603T151215Z
LAST-MODIFIED:20250603T151215Z
UID:3562-1751108400-1751115600@unityallstars.com
SUMMARY:U-Prep - Back handspring and back tuck clinic (all ages)
DESCRIPTION:
URL:https://unityallstars.com/event/u-prep-back-handspring-and-back-tuck-clinic-all-ages/
END:VEVENT
BEGIN:VEVENT
DTSTART;TZID=Europe/London:20250628T090000
DTEND;TZID=Europe/London:20250628T110000
DTSTAMP:20260423T205026
CREATED:20250603T151131Z
LAST-MODIFIED:20250603T151131Z
UID:3560-1751101200-1751108400@unityallstars.com
SUMMARY:U-Prep - Tumble clinic for athletes born 2017-2022
DESCRIPTION:
URL:https://unityallstars.com/event/u-prep-tumble-clinic-for-athletes-born-2017-2022/
END:VEVENT
BEGIN:VEVENT
DTSTART;TZID=Europe/London:20250626T193000
DTEND;TZID=Europe/London:20250626T220000
DTSTAMP:20260423T205026
CREATED:20250603T150928Z
LAST-MODIFIED:20250603T150928Z
UID:3557-1750966200-1750975200@unityallstars.com
SUMMARY:U-Prep - Stunt only Worlds prep camp for athletes born 2010 and earlier
DESCRIPTION:
URL:https://unityallstars.com/event/u-prep-stunt-only-worlds-prep-camp-for-athletes-born-2010-and-earlier/
END:VEVENT
BEGIN:VEVENT
DTSTART;TZID=Europe/London:20250626T170000
DTEND;TZID=Europe/London:20250626T193000
DTSTAMP:20260423T205026
CREATED:20250603T150836Z
LAST-MODIFIED:20250603T150836Z
UID:3555-1750957200-1750966200@unityallstars.com
SUMMARY:U-Prep - Stunt only U18 Worlds prep camp for athletes born 2007-2012
DESCRIPTION:
URL:https://unityallstars.com/event/u-prep-stunt-only-u18-worlds-prep-camp-for-athletes-born-2007-2012/
END:VEVENT
BEGIN:VEVENT
DTSTART;TZID=Europe/London:20250626T170000
DTEND;TZID=Europe/London:20250626T193000
DTSTAMP:20260423T205026
CREATED:20250602T201155Z
LAST-MODIFIED:20250603T150219Z
UID:3385-1750957200-1750966200@unityallstars.com
SUMMARY:U-Prep Camp - Level 2-4 stunt clinic for athletes born 2012 and earlier
DESCRIPTION:
URL:https://unityallstars.com/event/u-prep-camps-3/
END:VEVENT
BEGIN:VEVENT
DTSTART;TZID=Europe/London:20250625T193000
DTEND;TZID=Europe/London:20250625T220000
DTSTAMP:20260423T205026
CREATED:20250603T150731Z
LAST-MODIFIED:20250603T150731Z
UID:3553-1750879800-1750888800@unityallstars.com
SUMMARY:U-Prep - Stunt only\, non-tumble Worlds prep camp for athletes born 2010 and earlier
DESCRIPTION:
URL:https://unityallstars.com/event/u-prep-stunt-only-non-tumble-worlds-prep-camp-for-athletes-born-2010-and-earlier/
END:VEVENT
BEGIN:VEVENT
DTSTART;TZID=Europe/London:20250625T170000
DTEND;TZID=Europe/London:20250625T193000
DTSTAMP:20260423T205026
CREATED:20250603T150639Z
LAST-MODIFIED:20250603T150639Z
UID:3551-1750870800-1750879800@unityallstars.com
SUMMARY:U-Prep - U12 Prep camp for athletes born 2013-2016
DESCRIPTION:
URL:https://unityallstars.com/event/u-prep-u12-prep-camp-for-athletes-born-2013-2016/
END:VEVENT
BEGIN:VEVENT
DTSTART;TZID=Europe/London:20250625T160000
DTEND;TZID=Europe/London:20250625T173000
DTSTAMP:20260423T205026
CREATED:20250602T201133Z
LAST-MODIFIED:20250603T150127Z
UID:3383-1750867200-1750872600@unityallstars.com
SUMMARY:U-Prep Camp - U6 & U8 Prep camp for athletes born 2017-2022
DESCRIPTION:
URL:https://unityallstars.com/event/u-prep-camps-2/
END:VEVENT
BEGIN:VEVENT
DTSTART;TZID=Europe/London:20250624T193000
DTEND;TZID=Europe/London:20250624T213000
DTSTAMP:20260423T205026
CREATED:20250603T150540Z
LAST-MODIFIED:20250603T150540Z
UID:3549-1750793400-1750800600@unityallstars.com
SUMMARY:U-Prep - Partner Stunt Camp
DESCRIPTION:
URL:https://unityallstars.com/event/u-prep-partner-stunt-camp/
END:VEVENT
END:VCALENDAR