BEGIN:VCALENDAR
VERSION:2.0
PRODID:-//Unity Allstars - ECPv6.15.20//NONSGML v1.0//EN
CALSCALE:GREGORIAN
METHOD:PUBLISH
X-ORIGINAL-URL:https://unityallstars.com
X-WR-CALDESC:Events for Unity Allstars
REFRESH-INTERVAL;VALUE=DURATION:PT1H
X-Robots-Tag:noindex
X-PUBLISHED-TTL:PT1H
BEGIN:VTIMEZONE
TZID:Europe/London
BEGIN:DAYLIGHT
TZOFFSETFROM:+0000
TZOFFSETTO:+0100
TZNAME:BST
DTSTART:20240331T010000
END:DAYLIGHT
BEGIN:STANDARD
TZOFFSETFROM:+0100
TZOFFSETTO:+0000
TZNAME:GMT
DTSTART:20241027T010000
END:STANDARD
BEGIN:DAYLIGHT
TZOFFSETFROM:+0000
TZOFFSETTO:+0100
TZNAME:BST
DTSTART:20250330T010000
END:DAYLIGHT
BEGIN:STANDARD
TZOFFSETFROM:+0100
TZOFFSETTO:+0000
TZNAME:GMT
DTSTART:20251026T010000
END:STANDARD
BEGIN:DAYLIGHT
TZOFFSETFROM:+0000
TZOFFSETTO:+0100
TZNAME:BST
DTSTART:20260329T010000
END:DAYLIGHT
BEGIN:STANDARD
TZOFFSETFROM:+0100
TZOFFSETTO:+0000
TZNAME:GMT
DTSTART:20261025T010000
END:STANDARD
END:VTIMEZONE
BEGIN:VEVENT
DTSTART;TZID=Europe/London:20250626T170000
DTEND;TZID=Europe/London:20250626T193000
DTSTAMP:20260423T235325
CREATED:20250603T150836Z
LAST-MODIFIED:20250603T150836Z
UID:3555-1750957200-1750966200@unityallstars.com
SUMMARY:U-Prep - Stunt only U18 Worlds prep camp for athletes born 2007-2012
DESCRIPTION:
URL:https://unityallstars.com/event/u-prep-stunt-only-u18-worlds-prep-camp-for-athletes-born-2007-2012/
END:VEVENT
BEGIN:VEVENT
DTSTART;TZID=Europe/London:20250626T170000
DTEND;TZID=Europe/London:20250626T193000
DTSTAMP:20260423T235325
CREATED:20250602T201155Z
LAST-MODIFIED:20250603T150219Z
UID:3385-1750957200-1750966200@unityallstars.com
SUMMARY:U-Prep Camp - Level 2-4 stunt clinic for athletes born 2012 and earlier
DESCRIPTION:
URL:https://unityallstars.com/event/u-prep-camps-3/
END:VEVENT
BEGIN:VEVENT
DTSTART;TZID=Europe/London:20250625T193000
DTEND;TZID=Europe/London:20250625T220000
DTSTAMP:20260423T235325
CREATED:20250603T150731Z
LAST-MODIFIED:20250603T150731Z
UID:3553-1750879800-1750888800@unityallstars.com
SUMMARY:U-Prep - Stunt only\, non-tumble Worlds prep camp for athletes born 2010 and earlier
DESCRIPTION:
URL:https://unityallstars.com/event/u-prep-stunt-only-non-tumble-worlds-prep-camp-for-athletes-born-2010-and-earlier/
END:VEVENT
BEGIN:VEVENT
DTSTART;TZID=Europe/London:20250625T170000
DTEND;TZID=Europe/London:20250625T193000
DTSTAMP:20260423T235325
CREATED:20250603T150639Z
LAST-MODIFIED:20250603T150639Z
UID:3551-1750870800-1750879800@unityallstars.com
SUMMARY:U-Prep - U12 Prep camp for athletes born 2013-2016
DESCRIPTION:
URL:https://unityallstars.com/event/u-prep-u12-prep-camp-for-athletes-born-2013-2016/
END:VEVENT
BEGIN:VEVENT
DTSTART;TZID=Europe/London:20250625T160000
DTEND;TZID=Europe/London:20250625T173000
DTSTAMP:20260423T235325
CREATED:20250602T201133Z
LAST-MODIFIED:20250603T150127Z
UID:3383-1750867200-1750872600@unityallstars.com
SUMMARY:U-Prep Camp - U6 & U8 Prep camp for athletes born 2017-2022
DESCRIPTION:
URL:https://unityallstars.com/event/u-prep-camps-2/
END:VEVENT
BEGIN:VEVENT
DTSTART;TZID=Europe/London:20250624T193000
DTEND;TZID=Europe/London:20250624T213000
DTSTAMP:20260423T235325
CREATED:20250603T150540Z
LAST-MODIFIED:20250603T150540Z
UID:3549-1750793400-1750800600@unityallstars.com
SUMMARY:U-Prep - Partner Stunt Camp
DESCRIPTION:
URL:https://unityallstars.com/event/u-prep-partner-stunt-camp/
END:VEVENT
BEGIN:VEVENT
DTSTART;TZID=Europe/London:20250624T193000
DTEND;TZID=Europe/London:20250624T213000
DTSTAMP:20260423T235325
CREATED:20250603T150506Z
LAST-MODIFIED:20250603T150506Z
UID:3547-1750793400-1750800600@unityallstars.com
SUMMARY:U-Prep - Stunt camp levels 3-5 for athletes born in 2012 and earlier
DESCRIPTION:
URL:https://unityallstars.com/event/u-prep-stunt-camp-levels-3-5-for-athletes-born-in-2012-and-earlier/
END:VEVENT
BEGIN:VEVENT
DTSTART;TZID=Europe/London:20250624T193000
DTEND;TZID=Europe/London:20250624T213000
DTSTAMP:20260423T235325
CREATED:20250603T150358Z
LAST-MODIFIED:20250603T150358Z
UID:3545-1750793400-1750800600@unityallstars.com
SUMMARY:U-Prep - Level 4-6 Tumble clinic for athletes age 8+
DESCRIPTION:
URL:https://unityallstars.com/event/u-prep-level-4-6-tumble-clinic-for-athletes-age-8/
END:VEVENT
BEGIN:VEVENT
DTSTART;TZID=Europe/London:20250624T170000
DTEND;TZID=Europe/London:20250624T190000
DTSTAMP:20260423T235325
CREATED:20250602T201111Z
LAST-MODIFIED:20250603T150018Z
UID:3381-1750784400-1750791600@unityallstars.com
SUMMARY:U-Prep Camp - Level 1-3 Tumble clinic for athletes age 8+
DESCRIPTION:
URL:https://unityallstars.com/event/u-prep-camps/
END:VEVENT
BEGIN:VEVENT
DTSTART;VALUE=DATE:20250623
DTEND;VALUE=DATE:20250624
DTSTAMP:20260423T235325
CREATED:20250602T201032Z
LAST-MODIFIED:20250602T201032Z
UID:3379-1750636800-1750723199@unityallstars.com
SUMMARY:Open Gym
DESCRIPTION:
URL:https://unityallstars.com/event/open-gym/
END:VEVENT
BEGIN:VEVENT
DTSTART;VALUE=DATE:20250622
DTEND;VALUE=DATE:20250623
DTSTAMP:20260423T235325
CREATED:20250602T200900Z
LAST-MODIFIED:20250603T132519Z
UID:3377-1750550400-1750636799@unityallstars.com
SUMMARY:FC Nationals
DESCRIPTION:
URL:https://unityallstars.com/event/fc-nationals-3/
END:VEVENT
BEGIN:VEVENT
DTSTART;VALUE=DATE:20250621
DTEND;VALUE=DATE:20250622
DTSTAMP:20260423T235325
CREATED:20250602T200832Z
LAST-MODIFIED:20250603T132552Z
UID:3375-1750464000-1750550399@unityallstars.com
SUMMARY:FC Nationals
DESCRIPTION:
URL:https://unityallstars.com/event/fc-nationals-2/
END:VEVENT
BEGIN:VEVENT
DTSTART;VALUE=DATE:20250620
DTEND;VALUE=DATE:20250621
DTSTAMP:20260423T235325
CREATED:20250602T200754Z
LAST-MODIFIED:20250603T132457Z
UID:3373-1750377600-1750463999@unityallstars.com
SUMMARY:FC Nationals
DESCRIPTION:
URL:https://unityallstars.com/event/fc-nationals/
END:VEVENT
BEGIN:VEVENT
DTSTART;VALUE=DATE:20250614
DTEND;VALUE=DATE:20250615
DTSTAMP:20260423T235325
CREATED:20250602T200649Z
LAST-MODIFIED:20250603T132435Z
UID:3371-1749859200-1749945599@unityallstars.com
SUMMARY:FC Prep Nationals
DESCRIPTION:
URL:https://unityallstars.com/event/fc-prep-nationals/
END:VEVENT
BEGIN:VEVENT
DTSTART;TZID=Europe/London:20250613T200000
DTEND;TZID=Europe/London:20250613T220000
DTSTAMP:20260423T235325
CREATED:20250602T201246Z
LAST-MODIFIED:20250603T151948Z
UID:3387-1749844800-1749852000@unityallstars.com
SUMMARY:Open Gym
DESCRIPTION:
URL:https://unityallstars.com/event/open-gym-2/
END:VEVENT
BEGIN:VEVENT
DTSTART;VALUE=DATE:20250608
DTEND;VALUE=DATE:20250609
DTSTAMP:20260423T235325
CREATED:20250602T193920Z
LAST-MODIFIED:20250603T132352Z
UID:3369-1749340800-1749427199@unityallstars.com
SUMMARY:Legacy Nationals
DESCRIPTION:
URL:https://unityallstars.com/event/legacy-nationals-2/
END:VEVENT
BEGIN:VEVENT
DTSTART;VALUE=DATE:20250607
DTEND;VALUE=DATE:20250608
DTSTAMP:20260423T235325
CREATED:20250602T192119Z
LAST-MODIFIED:20250603T132332Z
UID:3359-1749254400-1749340799@unityallstars.com
SUMMARY:Legacy Nationals
DESCRIPTION:
URL:https://unityallstars.com/event/legacy-nationals/
END:VEVENT
BEGIN:VEVENT
DTSTART;TZID=Europe/London:20250603T200000
DTEND;TZID=Europe/London:20250603T210000
DTSTAMP:20260423T235325
CREATED:20250602T190438Z
LAST-MODIFIED:20250602T190438Z
UID:3345-1748980800-1748984400@unityallstars.com
SUMMARY:Prospective Parent/Athlete Zoom
DESCRIPTION:
URL:https://unityallstars.com/event/prospective-parent-athlete-zoom/
END:VEVENT
END:VCALENDAR